[dpdk-test-report] |SUCCESS| pw60298 [PATCH] eventdev: flag to identify same destined packets enqueue
dpdklab at iol.unh.edu
dpdklab at iol.unh.edu
Tue Oct 1 09:34:54 CEST 2019
Test-Label: iol-compilation
Test-Status: SUCCESS
http://dpdk.org/patch/60298
_Compile Testing PASS_
Submitter: Nipun Gupta <nipun.gupta at nxp.com>
Date: Tuesday, October 01 2019 06:46:41
DPDK git baseline: Repo:dpdk
Branch: master
CommitID:bd253daa7717835f88bbc58b09a94d0060380396
60298 --> compile testing pass
Test environment and result as below:
+--------------+------------------+-------------------+--------------+
| Environment | dpdk_compile_ovs | dpdk_compile_spdk | dpdk_compile |
+==============+==================+===================+==============+
| Ubuntu 18.04 | PASS | PASS | PASS |
+--------------+------------------+-------------------+--------------+
| FreeBSD 11.2 | | PASS | PASS |
+--------------+------------------+-------------------+--------------+
Ubuntu 18.04
Kernel: 4.15.0-generic
GCC: 7.4
FreeBSD 11.2
Kernel: 11.2
GCC: 8.3
https://lab.dpdk.org/results/dashboard/patchsets/7735/
UNH-IOL DPDK Performance Test Lab
To manage your email subscriptions visit:
https://lab.dpdk.org/results/dashboard/preferences/subscriptions/
More information about the test-report
mailing list