[dpdk-test-report] |SUCCESS| pw60345-60347 [PATCH] [v8, 1/3] ethdev: decouple flow types and RSS offload types
dpdklab at iol.unh.edu
dpdklab at iol.unh.edu
Tue Oct 1 16:50:24 CEST 2019
Test-Label: iol-compilation
Test-Status: SUCCESS
http://dpdk.org/patch/60345
_Compile Testing PASS_
Submitter: Simei Su <simei.su at intel.com>
Date: Tuesday, October 01 2019 14:36:02
DPDK git baseline: Repo:dpdk-next-net
Branch: master
CommitID:7499818d136b1b46acdb12d8495259ac22ed0939
60345-60347 --> compile testing pass
Test environment and result as below:
+--------------+------------------+--------------+-------------------+
| Environment | dpdk_compile_ovs | dpdk_compile | dpdk_compile_spdk |
+==============+==================+==============+===================+
| Ubuntu 18.04 | PASS | PASS | PASS |
+--------------+------------------+--------------+-------------------+
| FreeBSD 11.2 | | PASS | PASS |
+--------------+------------------+--------------+-------------------+
Ubuntu 18.04
Kernel: 4.15.0-generic
GCC: 7.4
FreeBSD 11.2
Kernel: 11.2
GCC: 8.3
https://lab.dpdk.org/results/dashboard/patchsets/7745/
UNH-IOL DPDK Performance Test Lab
To manage your email subscriptions visit:
https://lab.dpdk.org/results/dashboard/preferences/subscriptions/
More information about the test-report
mailing list