[dpdk-test-report] |SUCCESS| pw60376-60389 [PATCH] [v3, 01/15] net/bnxt: add FW reset HWRM command
dpdklab at iol.unh.edu
dpdklab at iol.unh.edu
Wed Oct 2 03:51:30 CEST 2019
Test-Label: iol-compilation
Test-Status: SUCCESS
http://dpdk.org/patch/60376
_Compile Testing PASS_
Submitter: Ajit Khaparde <ajit.khaparde at broadcom.com>
Date: Wednesday, October 02 2019 01:23:21
DPDK git baseline: Repo:dpdk-next-net
Branch: master
CommitID:d49603df1aa275c275684ccf792cd2aab1e57e2f
60376-60389 --> compile testing pass
Test environment and result as below:
+--------------+------------------+-------------------+--------------+
| Environment | dpdk_compile_ovs | dpdk_compile_spdk | dpdk_compile |
+==============+==================+===================+==============+
| Ubuntu 18.04 | PASS | PASS | PASS |
+--------------+------------------+-------------------+--------------+
| FreeBSD 11.2 | | PASS | PASS |
+--------------+------------------+-------------------+--------------+
Ubuntu 18.04
Kernel: 4.15.0-generic
GCC: 7.4
FreeBSD 11.2
Kernel: 11.2
GCC: 8.3
https://lab.dpdk.org/results/dashboard/patchsets/7753/
UNH-IOL DPDK Performance Test Lab
To manage your email subscriptions visit:
https://lab.dpdk.org/results/dashboard/preferences/subscriptions/
More information about the test-report
mailing list