[dpdk-test-report] |SUCCESS| pw60484 [PATCH] drivers/octeontx2: fix parser error to ol_flags translation
dpdklab at iol.unh.edu
dpdklab at iol.unh.edu
Thu Oct 3 08:50:23 CEST 2019
Test-Label: iol-compilation
Test-Status: SUCCESS
http://dpdk.org/patch/60484
_Compile Testing PASS_
Submitter: Sunil Kumar Kori <skori at marvell.com>
Date: Thursday, October 03 2019 06:32:29
DPDK git baseline: Repo:dpdk
Branch: master
CommitID:bd253daa7717835f88bbc58b09a94d0060380396
60484 --> compile testing pass
Test environment and result as below:
+--------------+--------------+-------------------+------------------+
| Environment | dpdk_compile | dpdk_compile_spdk | dpdk_compile_ovs |
+==============+==============+===================+==================+
| Ubuntu 18.04 | PASS | PASS | PASS |
+--------------+--------------+-------------------+------------------+
| FreeBSD 11.2 | PASS | PASS | |
+--------------+--------------+-------------------+------------------+
Ubuntu 18.04
Kernel: 4.15.0-generic
GCC: 7.4
FreeBSD 11.2
Kernel: 11.2
GCC: 8.3
https://lab.dpdk.org/results/dashboard/patchsets/7771/
UNH-IOL DPDK Performance Test Lab
To manage your email subscriptions visit:
https://lab.dpdk.org/results/dashboard/preferences/subscriptions/
More information about the test-report
mailing list