[dpdk-test-report] |SUCCESS| pw60526 [PATCH] crypto/octeontx: fix global variable multiple definitions
dpdklab at iol.unh.edu
dpdklab at iol.unh.edu
Fri Oct 4 12:20:28 CEST 2019
Test-Label: iol-compilation
Test-Status: SUCCESS
http://dpdk.org/patch/60526
_Compile Testing PASS_
Submitter: Anoob Joseph <anoobj at marvell.com>
Date: Friday, October 04 2019 09:44:35
DPDK git baseline: Repo:dpdk
Branch: master
CommitID:5b5bb56532fd5dea5d6260c0a0e405c0e32da2a0
60526 --> compile testing pass
Test environment and result as below:
+--------------+--------------+-------------------+------------------+
| Environment | dpdk_compile | dpdk_compile_spdk | dpdk_compile_ovs |
+==============+==============+===================+==================+
| Ubuntu 18.04 | PASS | PASS | PASS |
+--------------+--------------+-------------------+------------------+
| FreeBSD 11.2 | PASS | PASS | |
+--------------+--------------+-------------------+------------------+
Ubuntu 18.04
Kernel: 4.15.0-generic
GCC: 7.4
FreeBSD 11.2
Kernel: 11.2
GCC: 8.3
https://lab.dpdk.org/results/dashboard/patchsets/7782/
UNH-IOL DPDK Performance Test Lab
To manage your email subscriptions visit:
https://lab.dpdk.org/results/dashboard/preferences/subscriptions/
More information about the test-report
mailing list