[dpdk-test-report] |SUCCESS| [GIT MASTER] f9e6bebc092424e9d7414b5b9cc71b4741998a0c
dpdklab at iol.unh.edu
dpdklab at iol.unh.edu
Fri Oct 4 17:40:11 CEST 2019
_Compile Testing PASS_
Branch: dpdk-next-crypto
f9e6bebc092424e9d7414b5b9cc71b4741998a0c --> compile testing pass
Test environment and result as below:
+--------------+-------------------+--------------+------------------+
| Environment | dpdk_compile_spdk | dpdk_compile | dpdk_compile_ovs |
+==============+===================+==============+==================+
| Ubuntu 18.04 | PASS | PASS | PASS |
+--------------+-------------------+--------------+------------------+
| FreeBSD 11.2 | PASS | PASS | |
+--------------+-------------------+--------------+------------------+
Ubuntu 18.04
Kernel: 4.15.0-generic
GCC: 7.4
FreeBSD 11.2
Kernel: 11.2
GCC: 8.3
https://lab.dpdk.org/results/dashboard/tarballs/6411/
UNH-IOL DPDK Performance Test Lab
To manage your email subscriptions visit:
https://lab.dpdk.org/results/dashboard/preferences/subscriptions/
More information about the test-report
mailing list