[dpdk-test-report] |SUCCESS| pw60590-60596 [PATCH] [v9, 1/7] ethdev: add set ptype function
dpdklab at iol.unh.edu
dpdklab at iol.unh.edu
Mon Oct 7 09:20:36 CEST 2019
Test-Label: iol-compilation
Test-Status: SUCCESS
http://dpdk.org/patch/60590
_Compile Testing PASS_
Submitter: Pavan Nikhilesh Bhagavatula <pbhagavatula at marvell.com>
Date: Monday, October 07 2019 06:51:48
DPDK git baseline: Repo:dpdk
Branch: master
CommitID:5b5bb56532fd5dea5d6260c0a0e405c0e32da2a0
60590-60596 --> compile testing pass
Test environment and result as below:
+--------------+------------------+--------------+-------------------+
| Environment | dpdk_compile_ovs | dpdk_compile | dpdk_compile_spdk |
+==============+==================+==============+===================+
| Ubuntu 18.04 | PASS | PASS | PASS |
+--------------+------------------+--------------+-------------------+
| FreeBSD 11.2 | | PASS | PASS |
+--------------+------------------+--------------+-------------------+
Ubuntu 18.04
Kernel: 4.15.0-generic
GCC: 7.4
FreeBSD 11.2
Kernel: 11.2
GCC: 8.3
https://lab.dpdk.org/results/dashboard/patchsets/7805/
UNH-IOL DPDK Performance Test Lab
To manage your email subscriptions visit:
https://lab.dpdk.org/results/dashboard/preferences/subscriptions/
More information about the test-report
mailing list