[dpdk-test-report] |SUCCESS| pw60618 [PATCH] net/mlx5: fix direct call to rdma-core library
dpdklab at iol.unh.edu
dpdklab at iol.unh.edu
Mon Oct 7 16:39:16 CEST 2019
Test-Label: iol-compilation
Test-Status: SUCCESS
http://dpdk.org/patch/60618
_Compile Testing PASS_
Submitter: Viacheslav Ovsiienko <viacheslavo at mellanox.com>
Date: Monday, October 07 2019 13:58:22
DPDK git baseline: Repo:dpdk-next-net-mlx
Branch: master
CommitID:7731b62b47c2410842c43d9ff5f033285b959060
60618 --> compile testing pass
Test environment and result as below:
+--------------+-------------------+--------------+------------------+
| Environment | dpdk_compile_spdk | dpdk_compile | dpdk_compile_ovs |
+==============+===================+==============+==================+
| Ubuntu 18.04 | PASS | PASS | PASS |
+--------------+-------------------+--------------+------------------+
| FreeBSD 11.2 | PASS | PASS | |
+--------------+-------------------+--------------+------------------+
Ubuntu 18.04
Kernel: 4.15.0-generic
GCC: 7.4
FreeBSD 11.2
Kernel: 11.2
GCC: 8.3
https://lab.dpdk.org/results/dashboard/patchsets/7813/
UNH-IOL DPDK Performance Test Lab
To manage your email subscriptions visit:
https://lab.dpdk.org/results/dashboard/preferences/subscriptions/
More information about the test-report
mailing list