[dpdk-test-report] |SUCCESS| pw60634-60643 [PATCH] [v2, 01/10] security: introduce CPU Crypto action type and API
dpdklab at iol.unh.edu
dpdklab at iol.unh.edu
Mon Oct 7 18:50:59 CEST 2019
Test-Label: iol-compilation
Test-Status: SUCCESS
http://dpdk.org/patch/60634
_Compile Testing PASS_
Submitter: Fan Zhang <roy.fan.zhang at intel.com>
Date: Monday, October 07 2019 16:28:41
DPDK git baseline: Repo:dpdk-next-crypto
Branch: master
CommitID:f9e6bebc092424e9d7414b5b9cc71b4741998a0c
60634-60643 --> compile testing pass
Test environment and result as below:
+--------------+------------------+-------------------+--------------+
| Environment | dpdk_compile_ovs | dpdk_compile_spdk | dpdk_compile |
+==============+==================+===================+==============+
| Ubuntu 18.04 | PASS | PASS | PASS |
+--------------+------------------+-------------------+--------------+
| FreeBSD 11.2 | | PASS | PASS |
+--------------+------------------+-------------------+--------------+
Ubuntu 18.04
Kernel: 4.15.0-generic
GCC: 7.4
FreeBSD 11.2
Kernel: 11.2
GCC: 8.3
https://lab.dpdk.org/results/dashboard/patchsets/7817/
UNH-IOL DPDK Performance Test Lab
To manage your email subscriptions visit:
https://lab.dpdk.org/results/dashboard/preferences/subscriptions/
More information about the test-report
mailing list