[dpdk-test-report] |SUCCESS| pw60657-60668 [PATCH] [v3, 01/12] net/ice/base: fix for adding PPPoE switch rule
dpdklab at iol.unh.edu
dpdklab at iol.unh.edu
Tue Oct 8 04:21:01 CEST 2019
Test-Label: iol-compilation
Test-Status: SUCCESS
http://dpdk.org/patch/60657
_Compile Testing PASS_
Submitter: Qi Zhang <qi.z.zhang at intel.com>
Date: Tuesday, October 08 2019 01:50:07
DPDK git baseline: Repo:dpdk-next-net-intel
Branch: master
CommitID:a02f690f657dd0f5123b3b8d537d20f7182a31de
60657-60668 --> compile testing pass
Test environment and result as below:
+--------------+------------------+--------------+-------------------+
| Environment | dpdk_compile_ovs | dpdk_compile | dpdk_compile_spdk |
+==============+==================+==============+===================+
| Ubuntu 18.04 | PASS | PASS | PASS |
+--------------+------------------+--------------+-------------------+
| FreeBSD 11.2 | | PASS | PASS |
+--------------+------------------+--------------+-------------------+
Ubuntu 18.04
Kernel: 4.15.0-generic
GCC: 7.4
FreeBSD 11.2
Kernel: 11.2
GCC: 8.3
https://lab.dpdk.org/results/dashboard/patchsets/7822/
UNH-IOL DPDK Performance Test Lab
To manage your email subscriptions visit:
https://lab.dpdk.org/results/dashboard/preferences/subscriptions/
More information about the test-report
mailing list