[dpdk-test-report] |SUCCESS| pw60749-60751 [PATCH] [v11, 1/3] ethdev: decouple flow types and RSS offload types
dpdklab at iol.unh.edu
dpdklab at iol.unh.edu
Wed Oct 9 16:05:46 CEST 2019
Test-Label: iol-compilation
Test-Status: SUCCESS
http://dpdk.org/patch/60749
_Compile Testing PASS_
Submitter: Su, Simei <simei.su at intel.com>
Date: Wednesday, October 09 2019 06:57:18
DPDK git baseline: Repo:dpdk-next-net
Branch: master
CommitID:57b0bf0ded66b20a4f2ffb16d5b9ab0d98096c82
60749-60751 --> compile testing pass
Test environment and result as below:
+--------------+--------------+------------------+-------------------+
| Environment | dpdk_compile | dpdk_compile_ovs | dpdk_compile_spdk |
+==============+==============+==================+===================+
| FreeBSD 11.2 | PASS | | PASS |
+--------------+--------------+------------------+-------------------+
| Ubuntu 18.04 | PASS | PASS | PASS |
+--------------+--------------+------------------+-------------------+
FreeBSD 11.2
Kernel: 11.2
GCC: 8.3
Ubuntu 18.04
Kernel: 4.15.0-generic
GCC: 7.4
https://lab.dpdk.org/results/dashboard/patchsets/7843/
UNH-IOL DPDK Performance Test Lab
To manage your email subscriptions visit:
https://lab.dpdk.org/results/dashboard/preferences/subscriptions/
More information about the test-report
mailing list