[dpdk-test-report] |SUCCESS| pw60833 [PATCH] [v4] cryptodev: extend api of asymmetric crypto by sessionless
dpdklab at iol.unh.edu
dpdklab at iol.unh.edu
Thu Oct 10 04:50:02 CEST 2019
Test-Label: iol-compilation
Test-Status: SUCCESS
http://dpdk.org/patch/60833
_Compile Testing PASS_
Submitter: Arek Kusztal <arkadiuszx.kusztal at intel.com>
Date: Wednesday, October 09 2019 16:08:48
DPDK git baseline: Repo:dpdk
Branch: master
CommitID:b0f66a68ca7448296fd598e6e100ad278e417ed6
60833 --> compile testing pass
Test environment and result as below:
+--------------+--------------+------------------+-------------------+
| Environment | dpdk_compile | dpdk_compile_ovs | dpdk_compile_spdk |
+==============+==============+==================+===================+
| FreeBSD 11.2 | PASS | | PASS |
+--------------+--------------+------------------+-------------------+
| Ubuntu 18.04 | PASS | PASS | PASS |
+--------------+--------------+------------------+-------------------+
FreeBSD 11.2
Kernel: 11.2
GCC: 8.3
Ubuntu 18.04
Kernel: 4.15.0-generic
GCC: 7.4
https://lab.dpdk.org/results/dashboard/patchsets/7862/
UNH-IOL DPDK Performance Test Lab
To manage your email subscriptions visit:
https://lab.dpdk.org/results/dashboard/preferences/subscriptions/
More information about the test-report
mailing list