[dpdk-test-report] |SUCCESS| pw60873 [PATCH] ether: remove packing and set two-byte alignment

dpdklab at iol.unh.edu dpdklab at iol.unh.edu
Thu Oct 10 13:50:14 CEST 2019


Test-Label: iol-compilation
Test-Status: SUCCESS
http://dpdk.org/patch/60873

_Compile Testing PASS_

Submitter: Bruce Richardson <bruce.richardson at intel.com>
Date: Thursday, October 10 2019 10:46:23 
DPDK git baseline: Repo:dpdk
  Branch: master
  CommitID:b0f66a68ca7448296fd598e6e100ad278e417ed6

60873 --> compile testing pass

Test environment and result as below:

+--------------+------------------+-------------------+--------------+
| Environment  | dpdk_compile_ovs | dpdk_compile_spdk | dpdk_compile |
+==============+==================+===================+==============+
| Ubuntu 18.04 | PASS             | PASS              | PASS         |
+--------------+------------------+-------------------+--------------+
| FreeBSD 11.2 |                  | PASS              | PASS         |
+--------------+------------------+-------------------+--------------+

Ubuntu 18.04
	Kernel: 4.15.0-generic
	GCC: 7.4

FreeBSD 11.2
	Kernel: 11.2
	GCC: 8.3

https://lab.dpdk.org/results/dashboard/patchsets/7871/

UNH-IOL DPDK Performance Test Lab

To manage your email subscriptions visit: 
https://lab.dpdk.org/results/dashboard/preferences/subscriptions/


More information about the test-report mailing list