[dpdk-test-report] |SUCCESS| pw60893-60905 [PATCH] [v4, 01/19] net/hinic/base: add mbox command channel for SRIOV
dpdklab at iol.unh.edu
dpdklab at iol.unh.edu
Thu Oct 10 17:21:46 CEST 2019
Test-Label: iol-compilation
Test-Status: SUCCESS
http://dpdk.org/patch/60893
_Compile Testing PASS_
Submitter: Xiaoyun wang <cloud.wangxiaoyun at huawei.com>
Date: Thursday, October 10 2019 14:51:45
DPDK git baseline: Repo:dpdk-next-net
Branch: master
CommitID:ba718080c23485f1f35a7fdafd9bc6d693e8e2a8
60893-60905 --> compile testing pass
Test environment and result as below:
+--------------+-------------------+--------------+------------------+
| Environment | dpdk_compile_spdk | dpdk_compile | dpdk_compile_ovs |
+==============+===================+==============+==================+
| Ubuntu 18.04 | PASS | PASS | PASS |
+--------------+-------------------+--------------+------------------+
| FreeBSD 11.2 | PASS | PASS | |
+--------------+-------------------+--------------+------------------+
Ubuntu 18.04
Kernel: 4.15.0-generic
GCC: 7.4
FreeBSD 11.2
Kernel: 11.2
GCC: 8.3
https://lab.dpdk.org/results/dashboard/patchsets/7875/
UNH-IOL DPDK Performance Test Lab
To manage your email subscriptions visit:
https://lab.dpdk.org/results/dashboard/preferences/subscriptions/
More information about the test-report
mailing list