[dpdk-test-report] |SUCCESS| pw60966-60970 [PATCH] [v2, 1/5] crypto/octeontx: add device type mailbox routine
dpdklab at iol.unh.edu
dpdklab at iol.unh.edu
Fri Oct 11 15:35:11 CEST 2019
Test-Label: iol-compilation
Test-Status: SUCCESS
http://dpdk.org/patch/60966
_Compile Testing PASS_
Submitter: Anoob Joseph <anoobj at marvell.com>
Date: Friday, October 11 2019 13:01:32
DPDK git baseline: Repo:dpdk
Branch: master
CommitID:92d5dd48345026a157c7c8ea7299c55e3c46ab27
60966-60970 --> compile testing pass
Test environment and result as below:
+--------------+------------------+-------------------+--------------+
| Environment | dpdk_compile_ovs | dpdk_compile_spdk | dpdk_compile |
+==============+==================+===================+==============+
| Ubuntu 18.04 | PASS | PASS | PASS |
+--------------+------------------+-------------------+--------------+
| FreeBSD 11.2 | | PASS | PASS |
+--------------+------------------+-------------------+--------------+
Ubuntu 18.04
Kernel: 4.15.0-generic
GCC: 7.4
FreeBSD 11.2
Kernel: 11.2
GCC: 8.3
https://lab.dpdk.org/results/dashboard/patchsets/7893/
UNH-IOL DPDK Performance Test Lab
To manage your email subscriptions visit:
https://lab.dpdk.org/results/dashboard/preferences/subscriptions/
More information about the test-report
mailing list