[dpdk-test-report] |SUCCESS| pw60985 [PATCH] [v3] vhost: add support for large buffers
dpdklab at iol.unh.edu
dpdklab at iol.unh.edu
Fri Oct 11 19:35:13 CEST 2019
Test-Label: iol-compilation
Test-Status: SUCCESS
http://dpdk.org/patch/60985
_Compile Testing PASS_
Submitter: Flavio Leitner <fbl at sysclose.org>
Date: Friday, October 11 2019 17:09:47
DPDK git baseline: Repo:dpdk
Branch: master
CommitID:92d5dd48345026a157c7c8ea7299c55e3c46ab27
60985 --> compile testing pass
Test environment and result as below:
+--------------+------------------+--------------+-------------------+
| Environment | dpdk_compile_ovs | dpdk_compile | dpdk_compile_spdk |
+==============+==================+==============+===================+
| Ubuntu 18.04 | PASS | PASS | PASS |
+--------------+------------------+--------------+-------------------+
| FreeBSD 11.2 | | PASS | PASS |
+--------------+------------------+--------------+-------------------+
Ubuntu 18.04
Kernel: 4.15.0-generic
GCC: 7.4
FreeBSD 11.2
Kernel: 11.2
GCC: 8.3
https://lab.dpdk.org/results/dashboard/patchsets/7897/
UNH-IOL DPDK Performance Test Lab
To manage your email subscriptions visit:
https://lab.dpdk.org/results/dashboard/preferences/subscriptions/
More information about the test-report
mailing list