[dpdk-test-report] |SUCCESS| pw61010-61011 [PATCH] [v2, 1/2] lib/distributor: fix deadlock issue for aarch64
dpdklab at iol.unh.edu
dpdklab at iol.unh.edu
Sat Oct 12 05:20:27 CEST 2019
Test-Label: iol-compilation
Test-Status: SUCCESS
http://dpdk.org/patch/61010
_Compile Testing PASS_
Submitter: Ruifeng Wang <ruifeng.wang at arm.com>
Date: Saturday, October 12 2019 02:43:51
DPDK git baseline: Repo:dpdk
Branch: master
CommitID:cc8627bc6d7a7bd3ccc2653b746aac4fbaa0bc50
61010-61011 --> compile testing pass
Test environment and result as below:
+--------------+------------------+--------------+-------------------+
| Environment | dpdk_compile_ovs | dpdk_compile | dpdk_compile_spdk |
+==============+==================+==============+===================+
| Ubuntu 18.04 | PASS | PASS | PASS |
+--------------+------------------+--------------+-------------------+
| FreeBSD 11.2 | | PASS | PASS |
+--------------+------------------+--------------+-------------------+
Ubuntu 18.04
Kernel: 4.15.0-generic
GCC: 7.4
FreeBSD 11.2
Kernel: 11.2
GCC: 8.3
https://lab.dpdk.org/results/dashboard/patchsets/7902/
UNH-IOL DPDK Performance Test Lab
To manage your email subscriptions visit:
https://lab.dpdk.org/results/dashboard/preferences/subscriptions/
More information about the test-report
mailing list