[dpdk-test-report] |SUCCESS| pw61232 [PATCH] [v3] ethdev: add HIGIG2 key field to flow API
dpdklab at iol.unh.edu
dpdklab at iol.unh.edu
Tue Oct 15 11:05:14 CEST 2019
Test-Label: iol-compilation
Test-Status: SUCCESS
http://dpdk.org/patch/61232
_Compile Testing PASS_
Submitter: Kiran Kumar Kokkilagadda <kirankumark at marvell.com>
Date: Tuesday, October 15 2019 08:32:01
DPDK git baseline: Repo:dpdk-next-net
Branch: master
CommitID:c4d4c37e412769af6e7918bae84695934b85143a
61232 --> compile testing pass
Test environment and result as below:
+--------------+--------------+------------------+-------------------+
| Environment | dpdk_compile | dpdk_compile_ovs | dpdk_compile_spdk |
+==============+==============+==================+===================+
| FreeBSD 11.2 | PASS | | PASS |
+--------------+--------------+------------------+-------------------+
| Ubuntu 18.04 | PASS | PASS | PASS |
+--------------+--------------+------------------+-------------------+
FreeBSD 11.2
Kernel: 11.2
GCC: 8.3
Ubuntu 18.04
Kernel: 4.15.0-generic
GCC: 7.4
https://lab.dpdk.org/results/dashboard/patchsets/7943/
UNH-IOL DPDK Performance Test Lab
To manage your email subscriptions visit:
https://lab.dpdk.org/results/dashboard/preferences/subscriptions/
More information about the test-report
mailing list