[dpdk-test-report] |SUCCESS| pw61252-61254 [PATCH] [v2, 1/3] lib/ethdev: add ethdev op to get hash index
dpdklab at iol.unh.edu
dpdklab at iol.unh.edu
Tue Oct 15 12:20:10 CEST 2019
Test-Label: iol-compilation
Test-Status: SUCCESS
http://dpdk.org/patch/61252
_Compile Testing PASS_
Submitter: Vamsi Krishna Attunuru <vattunuru at marvell.com>
Date: Tuesday, October 15 2019 09:52:05
DPDK git baseline: Repo:dpdk
Branch: master
CommitID:31b798a6f08e9b333b94b8bb26910209aa810b73
61252-61254 --> compile testing pass
Test environment and result as below:
+--------------+------------------+--------------+-------------------+
| Environment | dpdk_compile_ovs | dpdk_compile | dpdk_compile_spdk |
+==============+==================+==============+===================+
| Ubuntu 18.04 | PASS | PASS | PASS |
+--------------+------------------+--------------+-------------------+
| FreeBSD 11.2 | | PASS | PASS |
+--------------+------------------+--------------+-------------------+
Ubuntu 18.04
Kernel: 4.15.0-generic
GCC: 7.4
FreeBSD 11.2
Kernel: 11.2
GCC: 8.3
https://lab.dpdk.org/results/dashboard/patchsets/7946/
UNH-IOL DPDK Performance Test Lab
To manage your email subscriptions visit:
https://lab.dpdk.org/results/dashboard/preferences/subscriptions/
More information about the test-report
mailing list