[dpdk-test-report] |SUCCESS| pw61186-61190 [PATCH] [v1, 1/5] lib/eal: implement the family of rte bit operation APIs
dpdklab at iol.unh.edu
dpdklab at iol.unh.edu
Tue Oct 15 13:05:16 CEST 2019
Test-Label: iol-compilation
Test-Status: SUCCESS
http://dpdk.org/patch/61186
_Compile Testing PASS_
Submitter: Joyce Kong <joyce.kong at arm.com>
Date: Tuesday, October 15 2019 07:49:57
DPDK git baseline: Repo:dpdk
Branch: master
CommitID:31b798a6f08e9b333b94b8bb26910209aa810b73
61186-61190 --> compile testing pass
Test environment and result as below:
+--------------+------------------+-------------------+--------------+
| Environment | dpdk_compile_ovs | dpdk_compile_spdk | dpdk_compile |
+==============+==================+===================+==============+
| Ubuntu 18.04 | PASS | PASS | PASS |
+--------------+------------------+-------------------+--------------+
| FreeBSD 11.2 | | PASS | PASS |
+--------------+------------------+-------------------+--------------+
Ubuntu 18.04
Kernel: 4.15.0-generic
GCC: 7.4
FreeBSD 11.2
Kernel: 11.2
GCC: 8.3
https://lab.dpdk.org/results/dashboard/patchsets/7937/
UNH-IOL DPDK Performance Test Lab
To manage your email subscriptions visit:
https://lab.dpdk.org/results/dashboard/preferences/subscriptions/
More information about the test-report
mailing list