[dpdk-test-report] |SUCCESS| pw61285 [PATCH] [v2] eal/ppc: fix 64	bit atomic exchange operation
    dpdklab at iol.unh.edu 
    dpdklab at iol.unh.edu
       
    Tue Oct 15 23:35:10 CEST 2019
    
    
  
Test-Label: iol-compilation
Test-Status: SUCCESS
http://dpdk.org/patch/61285
_Compile Testing PASS_
Submitter: David Christensen <drc at linux.vnet.ibm.com>
Date: Tuesday, October 15 2019 21:16:14 
DPDK git baseline: Repo:dpdk
  Branch: master
  CommitID:31b798a6f08e9b333b94b8bb26910209aa810b73
61285 --> compile testing pass
Test environment and result as below:
+--------------+--------------+------------------+-------------------+
| Environment  | dpdk_compile | dpdk_compile_ovs | dpdk_compile_spdk |
+==============+==============+==================+===================+
| FreeBSD 11.2 | PASS         |                  | PASS              |
+--------------+--------------+------------------+-------------------+
| Ubuntu 18.04 | PASS         | PASS             | PASS              |
+--------------+--------------+------------------+-------------------+
FreeBSD 11.2
	Kernel: 11.2
	GCC: 8.3
Ubuntu 18.04
	Kernel: 4.15.0-generic
	GCC: 7.4
https://lab.dpdk.org/results/dashboard/patchsets/7961/
UNH-IOL DPDK Performance Test Lab
To manage your email subscriptions visit: 
https://lab.dpdk.org/results/dashboard/preferences/subscriptions/
    
    
More information about the test-report
mailing list