[dpdk-test-report] |SUCCESS| [GIT MASTER] a8f8ae1cf9b68f6398b49019ca07a215a57bba41
dpdklab at iol.unh.edu
dpdklab at iol.unh.edu
Tue Oct 15 23:54:00 CEST 2019
_Compile Testing PASS_
Branch: dpdk
a8f8ae1cf9b68f6398b49019ca07a215a57bba41 --> compile testing pass
Test environment and result as below:
+--------------+-------------------+--------------+------------------+
| Environment | dpdk_compile_spdk | dpdk_compile | dpdk_compile_ovs |
+==============+===================+==============+==================+
| Ubuntu 18.04 | PASS | PASS | PASS |
+--------------+-------------------+--------------+------------------+
| FreeBSD 11.2 | PASS | PASS | |
+--------------+-------------------+--------------+------------------+
Ubuntu 18.04
Kernel: 4.15.0-generic
GCC: 7.4
FreeBSD 11.2
Kernel: 11.2
GCC: 8.3
https://lab.dpdk.org/results/dashboard/tarballs/6571/
UNH-IOL DPDK Performance Test Lab
To manage your email subscriptions visit:
https://lab.dpdk.org/results/dashboard/preferences/subscriptions/
More information about the test-report
mailing list