[dpdk-test-report] |SUCCESS| [GIT MASTER] cfd0ff81b3a4c82ddbd47cab51e9e0fa324b43ab
dpdklab at iol.unh.edu
dpdklab at iol.unh.edu
Wed Oct 16 13:11:49 CEST 2019
_Compile Testing PASS_
Branch: dpdk-next-eventdev
cfd0ff81b3a4c82ddbd47cab51e9e0fa324b43ab --> compile testing pass
Test environment and result as below:
+--------------+--------------+-------------------+------------------+
| Environment | dpdk_compile | dpdk_compile_spdk | dpdk_compile_ovs |
+==============+==============+===================+==================+
| Ubuntu 18.04 | PASS | PASS | PASS |
+--------------+--------------+-------------------+------------------+
| FreeBSD 11.2 | PASS | PASS | |
+--------------+--------------+-------------------+------------------+
Ubuntu 18.04
Kernel: 4.15.0-generic
GCC: 7.4
FreeBSD 11.2
Kernel: 11.2
GCC: 8.3
https://lab.dpdk.org/results/dashboard/tarballs/6578/
UNH-IOL DPDK Performance Test Lab
To manage your email subscriptions visit:
https://lab.dpdk.org/results/dashboard/preferences/subscriptions/
More information about the test-report
mailing list