[dpdk-test-report] |SUCCESS| pw61315-61325 [PATCH] [v3, 01/11] crypto/octeontx2: add PMD skeleton
dpdklab at iol.unh.edu
dpdklab at iol.unh.edu
Wed Oct 16 18:07:04 CEST 2019
Test-Label: iol-compilation
Test-Status: SUCCESS
http://dpdk.org/patch/61315
_Compile Testing PASS_
Submitter: Anoob Joseph <anoobj at marvell.com>
Date: Wednesday, October 16 2019 15:25:34
DPDK git baseline: Repo:dpdk-next-crypto
Branch: master
CommitID:36112de91a441dd87564fdd14911a89941e84701
61315-61325 --> compile testing pass
Test environment and result as below:
+--------------+-------------------+--------------+------------------+
| Environment | dpdk_compile_spdk | dpdk_compile | dpdk_compile_ovs |
+==============+===================+==============+==================+
| Ubuntu 18.04 | PASS | PASS | PASS |
+--------------+-------------------+--------------+------------------+
| FreeBSD 11.2 | PASS | PASS | |
+--------------+-------------------+--------------+------------------+
| CentOS 8 | | PASS | |
+--------------+-------------------+--------------+------------------+
Ubuntu 18.04
Kernel: 4.15.0-generic
GCC: 7.4
FreeBSD 11.2
Kernel: 11.2
GCC: 8.3
CentOS 8
Kernel: 4.18.0.el8_0
GCC: 8.2
https://lab.dpdk.org/results/dashboard/patchsets/7976/
UNH-IOL DPDK Performance Test Lab
To manage your email subscriptions visit:
https://lab.dpdk.org/results/dashboard/preferences/subscriptions/
More information about the test-report
mailing list