[dpdk-test-report] |SUCCESS| pw61435-61436 [PATCH] [v2, 1/2] crypto/aesni_mb: allow device init if no AES-NI is present
dpdklab at iol.unh.edu
dpdklab at iol.unh.edu
Thu Oct 17 19:59:23 CEST 2019
Test-Label: iol-compilation
Test-Status: SUCCESS
http://dpdk.org/patch/61435
_Compile Testing PASS_
Submitter: Pablo de Lara <pablo.de.lara.guarch at intel.com>
Date: Thursday, October 17 2019 16:30:49
DPDK git baseline: Repo:dpdk
Branch: master
CommitID:a8f8ae1cf9b68f6398b49019ca07a215a57bba41
61435-61436 --> compile testing pass
Test environment and result as below:
+--------------+--------------+------------------+-------------------+
| Environment | dpdk_compile | dpdk_compile_ovs | dpdk_compile_spdk |
+==============+==============+==================+===================+
| FreeBSD 11.2 | PASS | | PASS |
+--------------+--------------+------------------+-------------------+
| Ubuntu 18.04 | PASS | PASS | PASS |
+--------------+--------------+------------------+-------------------+
| CentOS 8 | PASS | PASS | |
+--------------+--------------+------------------+-------------------+
FreeBSD 11.2
Kernel: 11.2
GCC: 8.3
Ubuntu 18.04
Kernel: 4.15.0-generic
GCC: 7.4
CentOS 8
Kernel: 4.18.0.el8_0
GCC: 8.2
https://lab.dpdk.org/results/dashboard/patchsets/8008/
UNH-IOL DPDK Performance Test Lab
To manage your email subscriptions visit:
https://lab.dpdk.org/results/dashboard/preferences/subscriptions/
More information about the test-report
mailing list