[dpdk-test-report] |SUCCESS| pw61460 [PATCH] crypto/dpaa_sec: enable compilation without security
dpdklab at iol.unh.edu
dpdklab at iol.unh.edu
Fri Oct 18 14:48:48 CEST 2019
Test-Label: iol-compilation
Test-Status: SUCCESS
http://dpdk.org/patch/61460
_Compile Testing PASS_
Submitter: Hemant Agrawal <hemant.agrawal at nxp.com>
Date: Friday, October 18 2019 07:56:13
DPDK git baseline: Repo:dpdk-next-crypto
Branch: master
CommitID:db8e4e4e5a23a89822fefbf3d1fb79c10332a7dd
61460 --> compile testing pass
Test environment and result as below:
+--------------+-------------------+------------------+--------------+
| Environment | dpdk_compile_spdk | dpdk_compile_ovs | dpdk_compile |
+==============+===================+==================+==============+
| Ubuntu 18.04 | PASS | PASS | PASS |
+--------------+-------------------+------------------+--------------+
| FreeBSD 11.2 | PASS | | PASS |
+--------------+-------------------+------------------+--------------+
| CentOS 8 | | PASS | PASS |
+--------------+-------------------+------------------+--------------+
Ubuntu 18.04
Kernel: 4.15.0-generic
GCC: 7.4
FreeBSD 11.2
Kernel: 11.2
GCC: 8.3
CentOS 8
Kernel: 4.18.0.el8_0
GCC: 8.2
https://lab.dpdk.org/results/dashboard/patchsets/8019/
UNH-IOL DPDK Performance Test Lab
To manage your email subscriptions visit:
https://lab.dpdk.org/results/dashboard/preferences/subscriptions/
More information about the test-report
mailing list