[dpdk-test-report] |SUCCESS| pw61471 [PATCH] test/crypto: add unit tests for AES-CTR + AES CMAC

dpdklab at iol.unh.edu dpdklab at iol.unh.edu
Fri Oct 18 17:25:21 CEST 2019


Test-Label: iol-compilation
Test-Status: SUCCESS
http://dpdk.org/patch/61471

_Compile Testing PASS_

Submitter: Adam Dybkowski <adamx.dybkowski at intel.com>
Date: Friday, October 18 2019 13:02:35 
DPDK git baseline: Repo:dpdk
  Branch: master
  CommitID:ad4305d0d5ed103cf5217eb120168ff8f285466c

61471 --> compile testing pass

Test environment and result as below:

+--------------+-------------------+------------------+--------------+
| Environment  | dpdk_compile_spdk | dpdk_compile_ovs | dpdk_compile |
+==============+===================+==================+==============+
| FreeBSD 11.2 | PASS              |                  | PASS         |
+--------------+-------------------+------------------+--------------+
| Ubuntu 18.04 | PASS              | PASS             | PASS         |
+--------------+-------------------+------------------+--------------+
| CentOS 8     |                   | PASS             | PASS         |
+--------------+-------------------+------------------+--------------+

FreeBSD 11.2
	Kernel: 11.2
	GCC: 8.3

Ubuntu 18.04
	Kernel: 4.15.0-generic
	GCC: 7.4

CentOS 8
	Kernel: 4.18.0.el8_0
	GCC: 8.2

https://lab.dpdk.org/results/dashboard/patchsets/8026/

UNH-IOL DPDK Performance Test Lab

To manage your email subscriptions visit: 
https://lab.dpdk.org/results/dashboard/preferences/subscriptions/


More information about the test-report mailing list