[dpdk-test-report] |SUCCESS| pw61485-61487 [PATCH] [v2, 1/2] bus/pci: check IO permissions for UIO only
dpdklab at iol.unh.edu
dpdklab at iol.unh.edu
Sun Oct 20 15:14:57 CEST 2019
Test-Label: iol-compilation
Test-Status: SUCCESS
http://dpdk.org/patch/61485
_Compile Testing PASS_
Submitter: David Marchand <david.marchand at redhat.com>
Date: Sunday, October 20 2019 12:29:58
DPDK git baseline: Repo:dpdk
Branch: master
CommitID:b36f587f010bba421a8fd0b4c383276ecb796ae3
61485-61487 --> compile testing pass
Test environment and result as below:
+--------------+--------------+-------------------+------------------+
| Environment | dpdk_compile | dpdk_compile_spdk | dpdk_compile_ovs |
+==============+==============+===================+==================+
| Ubuntu 18.04 | PASS | PASS | PASS |
+--------------+--------------+-------------------+------------------+
| FreeBSD 11.2 | PASS | PASS | |
+--------------+--------------+-------------------+------------------+
| CentOS 8 | PASS | | PASS |
+--------------+--------------+-------------------+------------------+
Ubuntu 18.04
Kernel: 4.15.0-generic
GCC: 7.4
FreeBSD 11.2
Kernel: 11.2
GCC: 8.3
CentOS 8
Kernel: 4.18.0.el8_0
GCC: 8.2
https://lab.dpdk.org/results/dashboard/patchsets/8036/
UNH-IOL DPDK Performance Test Lab
To manage your email subscriptions visit:
https://lab.dpdk.org/results/dashboard/preferences/subscriptions/
More information about the test-report
mailing list