[dpdk-test-report] |SUCCESS| pw61568-61570 [PATCH] [v3, 1/3] net/enetc: add macro for BD ring alignment
dpdklab at iol.unh.edu
dpdklab at iol.unh.edu
Mon Oct 21 12:57:57 CEST 2019
Test-Label: iol-compilation
Test-Status: SUCCESS
http://dpdk.org/patch/61568
_Compile Testing PASS_
Submitter: Gagandeep Singh <g.singh at nxp.com>
Date: Monday, October 21 2019 09:11:32
DPDK git baseline: Repo:dpdk
Branch: master
CommitID:b36f587f010bba421a8fd0b4c383276ecb796ae3
61568-61570 --> compile testing pass
Test environment and result as below:
+--------------+--------------+-------------------+------------------+
| Environment | dpdk_compile | dpdk_compile_spdk | dpdk_compile_ovs |
+==============+==============+===================+==================+
| Ubuntu 18.04 | PASS | PASS | PASS |
+--------------+--------------+-------------------+------------------+
| FreeBSD 11.2 | PASS | PASS | |
+--------------+--------------+-------------------+------------------+
| CentOS 8 | PASS | | PASS |
+--------------+--------------+-------------------+------------------+
Ubuntu 18.04
Kernel: 4.15.0-generic
GCC: 7.4
FreeBSD 11.2
Kernel: 11.2
GCC: 8.3
CentOS 8
Kernel: 4.18.0.el8_0
GCC: 8.2
https://lab.dpdk.org/results/dashboard/patchsets/8050/
UNH-IOL DPDK Performance Test Lab
To manage your email subscriptions visit:
https://lab.dpdk.org/results/dashboard/preferences/subscriptions/
More information about the test-report
mailing list