[dpdk-test-report] |SUCCESS| pw61620-61621 [PATCH] [v1, 1/2] baseband/fpga_lte_fec: fix probing fatal failure
dpdklab at iol.unh.edu
dpdklab at iol.unh.edu
Tue Oct 22 05:14:19 CEST 2019
Test-Label: iol-compilation
Test-Status: SUCCESS
http://dpdk.org/patch/61620
_Compile Testing PASS_
Submitter: Nicolas Chautru <nicolas.chautru at intel.com>
Date: Monday, October 21 2019 19:24:09
DPDK git baseline: Repo:dpdk
Branch: master
CommitID:08be0e0b68a5dedb1186b19dd61706da96a9ef19
61620-61621 --> compile testing pass
Test environment and result as below:
+--------------+------------------+-------------------+--------------+
| Environment | dpdk_compile_ovs | dpdk_compile_spdk | dpdk_compile |
+==============+==================+===================+==============+
| Ubuntu 18.04 | PASS | PASS | PASS |
+--------------+------------------+-------------------+--------------+
| CentOS 8 | PASS | | PASS |
+--------------+------------------+-------------------+--------------+
| FreeBSD 11.2 | | PASS | PASS |
+--------------+------------------+-------------------+--------------+
Ubuntu 18.04
Kernel: 4.15.0-generic
GCC: 7.4
CentOS 8
Kernel: 4.18.0.el8_0
GCC: 8.2
FreeBSD 11.2
Kernel: 11.2
GCC: 8.3
https://lab.dpdk.org/results/dashboard/patchsets/8061/
UNH-IOL DPDK Performance Test Lab
To manage your email subscriptions visit:
https://lab.dpdk.org/results/dashboard/preferences/subscriptions/
More information about the test-report
mailing list