[dpdk-test-report] |SUCCESS| pw61895 [PATCH] vfio: fix BAR offset type for 32-bit app
dpdklab at iol.unh.edu
dpdklab at iol.unh.edu
Thu Oct 24 21:53:54 CEST 2019
Test-Label: iol-compilation
Test-Status: SUCCESS
http://dpdk.org/patch/61895
_Compile Testing PASS_
Submitter: Michal Krawczyk <mk at semihalf.com>
Date: Thursday, October 24 2019 12:10:46
DPDK git baseline: Repo:dpdk
Branch: master
CommitID:ae783b42c4935d013ccec3f4625c51ec9ed234be
61895 --> compile testing pass
Test environment and result as below:
+--------------+------------------+-------------------+--------------+
| Environment | dpdk_compile_ovs | dpdk_compile_spdk | dpdk_compile |
+==============+==================+===================+==============+
| Ubuntu 18.04 | PASS | PASS | PASS |
+--------------+------------------+-------------------+--------------+
| CentOS 8 | PASS | | PASS |
+--------------+------------------+-------------------+--------------+
| FreeBSD 11.2 | | PASS | PASS |
+--------------+------------------+-------------------+--------------+
Ubuntu 18.04
Kernel: 4.15.0-generic
GCC: 7.4
CentOS 8
Kernel: 4.18.0.el8_0
GCC: 8.2
FreeBSD 11.2
Kernel: 11.2
GCC: 8.3
https://lab.dpdk.org/results/dashboard/patchsets/8128/
UNH-IOL DPDK Performance Test Lab
To manage your email subscriptions visit:
https://lab.dpdk.org/results/dashboard/preferences/subscriptions/
More information about the test-report
mailing list