[dpdk-test-report] |SUCCESS| pw61854 [PATCH] [v3, 1/1] test/compress: unit tests refactoring
dpdklab at iol.unh.edu
dpdklab at iol.unh.edu
Thu Oct 24 23:00:25 CEST 2019
Test-Label: iol-compilation
Test-Status: SUCCESS
http://dpdk.org/patch/61854
_Compile Testing PASS_
Submitter: Artur Trybula <arturx.trybula at intel.com>
Date: Thursday, October 24 2019 09:16:16
DPDK git baseline: Repo:dpdk-next-crypto
Branch: master
CommitID:08a9ac4fe660fa0ecce3b31af58475e2960fecc5
61854 --> compile testing pass
Test environment and result as below:
+--------------+-------------------+--------------+------------------+
| Environment | dpdk_compile_spdk | dpdk_compile | dpdk_compile_ovs |
+==============+===================+==============+==================+
| Ubuntu 18.04 | PASS | PASS | PASS |
+--------------+-------------------+--------------+------------------+
| FreeBSD 11.2 | PASS | PASS | |
+--------------+-------------------+--------------+------------------+
| CentOS 8 | | PASS | PASS |
+--------------+-------------------+--------------+------------------+
Ubuntu 18.04
Kernel: 4.15.0-generic
GCC: 7.4
FreeBSD 11.2
Kernel: 11.2
GCC: 8.3
CentOS 8
Kernel: 4.18.0.el8_0
GCC: 8.2
https://lab.dpdk.org/results/dashboard/patchsets/8121/
UNH-IOL DPDK Performance Test Lab
To manage your email subscriptions visit:
https://lab.dpdk.org/results/dashboard/preferences/subscriptions/
More information about the test-report
mailing list