[dpdk-test-report] |SUCCESS| pw61935 [PATCH] net/ixgbe: fix macsec setting
dpdklab at iol.unh.edu
dpdklab at iol.unh.edu
Fri Oct 25 03:56:53 CEST 2019
Test-Label: iol-compilation
Test-Status: SUCCESS
http://dpdk.org/patch/61935
_Compile Testing PASS_
Submitter: Sun GuinanX <guinanx.sun at intel.com>
Date: Friday, October 25 2019 09:21:40
DPDK git baseline: Repo:dpdk
Branch: master
CommitID:157e55f82db03ea6fa9cbc2d6c82574c10f82335
61935 --> compile testing pass
Test environment and result as below:
+--------------+-------------------+------------------+--------------+
| Environment | dpdk_compile_spdk | dpdk_compile_ovs | dpdk_compile |
+==============+===================+==================+==============+
| Ubuntu 18.04 | PASS | PASS | PASS |
+--------------+-------------------+------------------+--------------+
| FreeBSD 11.2 | PASS | | PASS |
+--------------+-------------------+------------------+--------------+
| CentOS 8 | | PASS | PASS |
+--------------+-------------------+------------------+--------------+
Ubuntu 18.04
Kernel: 4.15.0-generic
GCC: 7.4
FreeBSD 11.2
Kernel: 11.2
GCC: 8.3
CentOS 8
Kernel: 4.18.0.el8_0
GCC: 8.2
https://lab.dpdk.org/results/dashboard/patchsets/8145/
UNH-IOL DPDK Performance Test Lab
To manage your email subscriptions visit:
https://lab.dpdk.org/results/dashboard/preferences/subscriptions/
More information about the test-report
mailing list