[dpdk-test-report] |SUCCESS| pw62040 [PATCH] [v4] mbuf: support dynamic fields and flags
dpdklab at iol.unh.edu
dpdklab at iol.unh.edu
Sat Oct 26 15:27:20 CEST 2019
Test-Label: iol-compilation
Test-Status: SUCCESS
http://dpdk.org/patch/62040
_Compile Testing PASS_
Submitter: Olivier Matz <olivier.matz at 6wind.com>
Date: Saturday, October 26 2019 12:39:01
DPDK git baseline: Repo:dpdk
Branch: master
CommitID:b50bcefdcc087e3b945c05ddbe8f0dff399ff405
62040 --> compile testing pass
Test environment and result as below:
+--------------+------------------+-------------------+--------------+
| Environment | dpdk_compile_ovs | dpdk_compile_spdk | dpdk_compile |
+==============+==================+===================+==============+
| Ubuntu 18.04 | PASS | PASS | PASS |
+--------------+------------------+-------------------+--------------+
| CentOS 8 | PASS | | PASS |
+--------------+------------------+-------------------+--------------+
| FreeBSD 11.2 | | PASS | PASS |
+--------------+------------------+-------------------+--------------+
Ubuntu 18.04
Kernel: 4.15.0-generic
GCC: 7.4
CentOS 8
Kernel: 4.18.0.el8_0
GCC: 8.2
FreeBSD 11.2
Kernel: 11.2
GCC: 8.3
https://lab.dpdk.org/results/dashboard/patchsets/8171/
UNH-IOL DPDK Performance Test Lab
To manage your email subscriptions visit:
https://lab.dpdk.org/results/dashboard/preferences/subscriptions/
More information about the test-report
mailing list