[dpdk-test-report] |SUCCESS| pw62059-62063 [PATCH] [v11, 1/5] bus/fslmc: fix the conflicting dmb function
dpdklab at iol.unh.edu
dpdklab at iol.unh.edu
Sun Oct 27 14:26:49 CET 2019
Test-Label: iol-compilation
Test-Status: SUCCESS
http://dpdk.org/patch/62059
_Compile Testing PASS_
Submitter: Gavin Hu (Arm Technology China) <gavin.hu at arm.com>
Date: Sunday, October 27 2019 12:52:41
DPDK git baseline: Repo:dpdk
Branch: master
CommitID:ab6ebd70205f3587a4ecab8e5fb21100d9d99ce0
62059-62063 --> compile testing pass
Test environment and result as below:
+--------------+------------------+--------------+-------------------+
| Environment | dpdk_compile_ovs | dpdk_compile | dpdk_compile_spdk |
+==============+==================+==============+===================+
| Ubuntu 18.04 | PASS | PASS | PASS |
+--------------+------------------+--------------+-------------------+
| CentOS 8 | PASS | PASS | |
+--------------+------------------+--------------+-------------------+
| FreeBSD 11.2 | | PASS | PASS |
+--------------+------------------+--------------+-------------------+
Ubuntu 18.04
Kernel: 4.15.0-generic
GCC: 7.4
CentOS 8
Kernel: 4.18.0.el8_0
GCC: 8.2
FreeBSD 11.2
Kernel: 11.2
GCC: 8.3
https://lab.dpdk.org/results/dashboard/patchsets/8175/
UNH-IOL DPDK Performance Test Lab
To manage your email subscriptions visit:
https://lab.dpdk.org/results/dashboard/preferences/subscriptions/
More information about the test-report
mailing list