[dpdk-test-report] |SUCCESS| pw62125 [PATCH] net/bnxt: don't log at error level on flow creation
dpdklab at iol.unh.edu
dpdklab at iol.unh.edu
Tue Oct 29 03:57:38 CET 2019
Test-Label: iol-compilation
Test-Status: SUCCESS
http://dpdk.org/patch/62125
_Compile Testing PASS_
Submitter: Stephen Hemminger <stephen at networkplumber.org>
Date: Monday, October 28 2019 16:53:39
DPDK git baseline: Repo:dpdk
Branch: master
CommitID:19397c7bf2545e6adab41b657a1f1da3c7344e7b
62125 --> compile testing pass
Test environment and result as below:
+--------------+-------------------+------------------+--------------+
| Environment | dpdk_compile_spdk | dpdk_compile_ovs | dpdk_compile |
+==============+===================+==================+==============+
| Ubuntu 18.04 | PASS | PASS | PASS |
+--------------+-------------------+------------------+--------------+
| FreeBSD 11.2 | PASS | | PASS |
+--------------+-------------------+------------------+--------------+
| CentOS 8 | | PASS | PASS |
+--------------+-------------------+------------------+--------------+
Ubuntu 18.04
Kernel: 4.15.0-generic
GCC: 7.4
FreeBSD 11.2
Kernel: 11.2
GCC: 8.3
CentOS 8
Kernel: 4.18.0.el8_0
GCC: 8.2
https://lab.dpdk.org/results/dashboard/patchsets/8197/
UNH-IOL DPDK Performance Test Lab
To manage your email subscriptions visit:
https://lab.dpdk.org/results/dashboard/preferences/subscriptions/
More information about the test-report
mailing list