[dpdk-test-report] |SUCCESS| pw62145 [PATCH] [v2] app/test-pmd: add support for tx and rx desc statu

dpdklab at iol.unh.edu dpdklab at iol.unh.edu
Tue Oct 29 12:56:44 CET 2019


Test-Label: iol-compilation
Test-Status: SUCCESS
http://dpdk.org/patch/62145

_Compile Testing PASS_

Submitter: Kiran Kumar Kokkilagadda <kirankumark at marvell.com>
Date: Tuesday, October 29 2019 11:34:09 
DPDK git baseline: Repo:dpdk
  Branch: master
  CommitID:19397c7bf2545e6adab41b657a1f1da3c7344e7b

62145 --> compile testing pass

Test environment and result as below:

+--------------+------------------+-------------------+--------------+
| Environment  | dpdk_compile_ovs | dpdk_compile_spdk | dpdk_compile |
+==============+==================+===================+==============+
| Ubuntu 18.04 | PASS             | PASS              | PASS         |
+--------------+------------------+-------------------+--------------+
| CentOS 8     | PASS             |                   | PASS         |
+--------------+------------------+-------------------+--------------+
| FreeBSD 11.2 |                  | PASS              | PASS         |
+--------------+------------------+-------------------+--------------+

Ubuntu 18.04
	Kernel: 4.15.0-generic
	GCC: 7.4

CentOS 8
	Kernel: 4.18.0.el8_0
	GCC: 8.2

FreeBSD 11.2
	Kernel: 11.2
	GCC: 8.3

https://lab.dpdk.org/results/dashboard/patchsets/8210/

UNH-IOL DPDK Performance Test Lab

To manage your email subscriptions visit: 
https://lab.dpdk.org/results/dashboard/preferences/subscriptions/


More information about the test-report mailing list