[dpdk-test-report] |SUCCESS| pw62184 [PATCH] [v2] vhost: fix compile error
dpdklab at iol.unh.edu
dpdklab at iol.unh.edu
Wed Oct 30 12:26:37 CET 2019
Test-Label: iol-compilation
Test-Status: SUCCESS
http://dpdk.org/patch/62184
_Compile Testing PASS_
Submitter: Jin Yu <jin.yu at intel.com>
Date: Wednesday, October 30 2019 09:40:55
DPDK git baseline: Repo:dpdk
Branch: master
CommitID:19397c7bf2545e6adab41b657a1f1da3c7344e7b
62184 --> compile testing pass
Test environment and result as below:
+--------------+------------------+-------------------+--------------+
| Environment | dpdk_compile_ovs | dpdk_compile_spdk | dpdk_compile |
+==============+==================+===================+==============+
| Ubuntu 18.04 | PASS | PASS | PASS |
+--------------+------------------+-------------------+--------------+
| CentOS 8 | PASS | | PASS |
+--------------+------------------+-------------------+--------------+
| FreeBSD 11.2 | | PASS | PASS |
+--------------+------------------+-------------------+--------------+
Ubuntu 18.04
Kernel: 4.15.0-generic
GCC: 7.4
CentOS 8
Kernel: 4.18.0.el8_0
GCC: 8.2
FreeBSD 11.2
Kernel: 11.2
GCC: 8.3
https://lab.dpdk.org/results/dashboard/patchsets/8224/
UNH-IOL DPDK Performance Test Lab
To manage your email subscriptions visit:
https://lab.dpdk.org/results/dashboard/preferences/subscriptions/
More information about the test-report
mailing list