[dpdk-test-report] |SUCCESS| pw60249-60254 [PATCH] [v3, 1/6] mbuf: don't generate invalid mbuf in clone test

dpdklab at iol.unh.edu dpdklab at iol.unh.edu
Mon Sep 30 22:06:43 CEST 2019


Test-Label: iol-compilation
Test-Status: SUCCESS
http://dpdk.org/patch/60249

_Compile Testing PASS_

Submitter: Stephen Hemminger <stephen at networkplumber.org>
Date: Monday, September 30 2019 19:20:51 
DPDK git baseline: Repo:dpdk
  Branch: master
  CommitID:bd253daa7717835f88bbc58b09a94d0060380396

60249-60254 --> compile testing pass

Test environment and result as below:

+--------------+-------------------+--------------+------------------+
| Environment  | dpdk_compile_spdk | dpdk_compile | dpdk_compile_ovs |
+==============+===================+==============+==================+
| FreeBSD 11.2 | PASS              | PASS         |                  |
+--------------+-------------------+--------------+------------------+
| Ubuntu 18.04 | PASS              | PASS         | PASS             |
+--------------+-------------------+--------------+------------------+

FreeBSD 11.2
	Kernel: 11.2
	GCC: 8.3

Ubuntu 18.04
	Kernel: 4.15.0-generic
	GCC: 7.4

https://lab.dpdk.org/results/dashboard/patchsets/7725/

UNH-IOL DPDK Performance Test Lab

To manage your email subscriptions visit: 
https://lab.dpdk.org/results/dashboard/preferences/subscriptions/


More information about the test-report mailing list