[dpdk-test-report] |SUCCESS| pw60260-60265 [PATCH] [v2, 1/7] test/crypto: add PDCP cplane encap cases

dpdklab at iol.unh.edu dpdklab at iol.unh.edu
Mon Sep 30 22:33:28 CEST 2019


Test-Label: iol-compilation
Test-Status: SUCCESS
http://dpdk.org/patch/60260

_Compile Testing PASS_

Submitter: Akhil Goyal <akhil.goyal at nxp.com>
Date: Monday, September 30 2019 19:27:40 
DPDK git baseline: Repo:dpdk
  Branch: master
  CommitID:bd253daa7717835f88bbc58b09a94d0060380396

60260-60265 --> compile testing pass

Test environment and result as below:

+--------------+------------------+-------------------+--------------+
| Environment  | dpdk_compile_ovs | dpdk_compile_spdk | dpdk_compile |
+==============+==================+===================+==============+
| Ubuntu 18.04 | PASS             | PASS              | PASS         |
+--------------+------------------+-------------------+--------------+
| FreeBSD 11.2 |                  | PASS              | PASS         |
+--------------+------------------+-------------------+--------------+

Ubuntu 18.04
	Kernel: 4.15.0-generic
	GCC: 7.4

FreeBSD 11.2
	Kernel: 11.2
	GCC: 8.3

https://lab.dpdk.org/results/dashboard/patchsets/7727/

UNH-IOL DPDK Performance Test Lab

To manage your email subscriptions visit: 
https://lab.dpdk.org/results/dashboard/preferences/subscriptions/


More information about the test-report mailing list