[dpdk-test-report] |SUCCESS| pw67802-67810 [PATCH] [v3, 1/9] test/ring: add contention stress test
dpdklab at iol.unh.edu
dpdklab at iol.unh.edu
Tue Apr 7 00:21:10 CEST 2020
Test-Label: iol-testing
Test-Status: SUCCESS
http://dpdk.org/patch/67802
_Testing PASS_
Submitter: Ananyev, Konstantin <konstantin.ananyev at intel.com>
Date: Friday, April 03 2020 17:42:27
DPDK git baseline: Repo:dpdk
Branch: master
CommitID:10c69730a4b4910b4d57c365329a6c26479d25cd
67802-67810 --> testing pass
Test environment and result as below:
+---------------------+------------------+--------------+-------------------+--------------------+----------------+
| Environment | dpdk_compile_ovs | dpdk_compile | dpdk_compile_spdk | dpdk_meson_compile | dpdk_unit_test |
+=====================+==================+==============+===================+====================+================+
| openSUSE Leap 15 | PASS | PASS | PASS | PASS | SKIPPED |
+---------------------+------------------+--------------+-------------------+--------------------+----------------+
| CentOS 8 | PASS | PASS | PASS | PASS | SKIPPED |
+---------------------+------------------+--------------+-------------------+--------------------+----------------+
| Ubuntu 18.04 | PASS | PASS | PASS | PASS | PASS |
+---------------------+------------------+--------------+-------------------+--------------------+----------------+
| Fedora 31 | PASS | PASS | PASS | PASS | SKIPPED |
+---------------------+------------------+--------------+-------------------+--------------------+----------------+
| Arch Linux | PASS | PASS | SKIPPED | PASS | SKIPPED |
+---------------------+------------------+--------------+-------------------+--------------------+----------------+
| FreeBSD 11.2 | SKIPPED | PASS | PASS | SKIPPED | SKIPPED |
+---------------------+------------------+--------------+-------------------+--------------------+----------------+
| Windows Server 2019 | SKIPPED | SKIPPED | SKIPPED | PASS | SKIPPED |
+---------------------+------------------+--------------+-------------------+--------------------+----------------+
openSUSE Leap 15
Kernel: 4.12.14
Compiler: gcc 7.4.1
CentOS 8
Kernel: 4.18.0.el8_0
Compiler: gcc 8.3.1
Ubuntu 18.04
Kernel: 4.15.0-generic
Compiler: gcc 7.4
Fedora 31
Kernel: 5.3.16
Compiler: gcc 9.2.1
Arch Linux
Kernel: latest
Compiler: gcc latest
FreeBSD 11.2
Kernel: 11.2
Compiler: gcc 8.3
Windows Server 2019
Kernel: 10.0
Compiler: clang 9.0
To view detailed results, visit:
https://lab.dpdk.org/results/dashboard/patchsets/10256/
UNH-IOL DPDK Community Lab
To manage your email subscriptions, visit:
https://lab.dpdk.org/results/dashboard/preferences/subscriptions/
More information about the test-report
mailing list