[dpdk-test-report] |SUCCESS| pw68222 [PATCH] [v2] common/iavf: update version
dpdklab at iol.unh.edu
dpdklab at iol.unh.edu
Sun Apr 12 15:55:15 CEST 2020
Test-Label: iol-testing
Test-Status: SUCCESS
http://dpdk.org/patch/68222
_Testing PASS_
Submitter: Qi Zhang <qi.z.zhang at intel.com>
Date: Sunday, April 12 2020 12:50:29
DPDK git baseline: Repo:dpdk
Branch: master
CommitID:dc38ae8d08269f1a7023f9f26045408f3d0e0e25
68222 --> testing pass
Test environment and result as below:
+---------------------+--------------------+-------------------+------------------+--------------+----------------+
| Environment | dpdk_meson_compile | dpdk_compile_spdk | dpdk_compile_ovs | dpdk_compile | dpdk_unit_test |
+=====================+====================+===================+==================+==============+================+
| Windows Server 2019 | PASS | SKIPPED | SKIPPED | SKIPPED | SKIPPED |
+---------------------+--------------------+-------------------+------------------+--------------+----------------+
| Fedora 31 | PASS | PASS | PASS | PASS | SKIPPED |
+---------------------+--------------------+-------------------+------------------+--------------+----------------+
| CentOS 8 | PASS | PASS | PASS | PASS | SKIPPED |
+---------------------+--------------------+-------------------+------------------+--------------+----------------+
| Ubuntu 18.04 | PASS | PASS | PASS | PASS | PASS |
+---------------------+--------------------+-------------------+------------------+--------------+----------------+
| openSUSE Leap 15 | PASS | PASS | PASS | PASS | SKIPPED |
+---------------------+--------------------+-------------------+------------------+--------------+----------------+
| FreeBSD 11.2 | PASS | PASS | SKIPPED | PASS | SKIPPED |
+---------------------+--------------------+-------------------+------------------+--------------+----------------+
| Arch Linux | PASS | SKIPPED | PASS | PASS | SKIPPED |
+---------------------+--------------------+-------------------+------------------+--------------+----------------+
Windows Server 2019
Kernel: 10.0
Compiler: clang 9.0
Fedora 31
Kernel: 5.3.16
Compiler: gcc 9.2.1
CentOS 8
Kernel: 4.18.0.el8_0
Compiler: gcc 8.3.1
Ubuntu 18.04
Kernel: 4.15.0-generic
Compiler: gcc 7.4
openSUSE Leap 15
Kernel: 4.12.14
Compiler: gcc 7.4.1
FreeBSD 11.2
Kernel: 11.2
Compiler: gcc 8.3
Arch Linux
Kernel: latest
Compiler: gcc latest
To view detailed results, visit:
https://lab.dpdk.org/results/dashboard/patchsets/10376/
UNH-IOL DPDK Community Lab
To manage your email subscriptions, visit:
https://lab.dpdk.org/results/dashboard/preferences/subscriptions/
More information about the test-report
mailing list