[dpdk-test-report] |SUCCESS| pw69154-69156 [PATCH] [v2, 1/3] config: introduce global rte debug flag
dpdklab at iol.unh.edu
dpdklab at iol.unh.edu
Thu Apr 23 08:26:41 CEST 2020
Test-Label: iol-testing
Test-Status: SUCCESS
http://dpdk.org/patch/69154
_Testing PASS_
Submitter: Lukasz Wojciechowski <l.wojciechow at partner.samsung.com>
Date: Wednesday, April 22 2020 21:45:53
DPDK git baseline: Repo:dpdk
Branch: master
CommitID:bf386ae377aa6dafd3043d4102f85f06cd33b111
69154-69156 --> testing pass
Test environment and result as below:
+---------------------+--------------------+-------------------+----------------+--------------+------------------+
| Environment | dpdk_meson_compile | dpdk_compile_spdk | dpdk_unit_test | dpdk_compile | dpdk_compile_ovs |
+=====================+====================+===================+================+==============+==================+
| Windows Server 2019 | PASS | SKIPPED | SKIPPED | SKIPPED | SKIPPED |
+---------------------+--------------------+-------------------+----------------+--------------+------------------+
| Fedora 31 | PASS | PASS | SKIPPED | PASS | PASS |
+---------------------+--------------------+-------------------+----------------+--------------+------------------+
| CentOS 8 | PASS | PASS | SKIPPED | PASS | PASS |
+---------------------+--------------------+-------------------+----------------+--------------+------------------+
| Ubuntu 18.04 | PASS | PASS | PASS | PASS | PASS |
+---------------------+--------------------+-------------------+----------------+--------------+------------------+
| openSUSE Leap 15 | PASS | PASS | SKIPPED | PASS | PASS |
+---------------------+--------------------+-------------------+----------------+--------------+------------------+
| Arch Linux | PASS | SKIPPED | SKIPPED | PASS | PASS |
+---------------------+--------------------+-------------------+----------------+--------------+------------------+
| FreeBSD 11.2 | SKIPPED | PASS | SKIPPED | PASS | SKIPPED |
+---------------------+--------------------+-------------------+----------------+--------------+------------------+
Windows Server 2019
Kernel: 10.0
Compiler: clang 9.0
Fedora 31
Kernel: 5.3.16
Compiler: gcc 9.2.1
CentOS 8
Kernel: 4.18.0.el8_0
Compiler: gcc 8.3.1
Ubuntu 18.04
Kernel: 4.15.0-generic
Compiler: gcc 7.4
openSUSE Leap 15
Kernel: 4.12.14
Compiler: gcc 7.4.1
Arch Linux
Kernel: latest
Compiler: gcc latest
FreeBSD 11.2
Kernel: 11.2
Compiler: gcc 8.3
To view detailed results, visit:
https://lab.dpdk.org/results/dashboard/patchsets/10633/
UNH-IOL DPDK Community Lab
To manage your email subscriptions, visit:
https://lab.dpdk.org/results/dashboard/preferences/subscriptions/
More information about the test-report
mailing list