[dpdk-test-report] |SUCCESS| pw75877-75879 [PATCH] [v4, 3/3] ethdev: check if queue setupped when getting queue info

dpdklab at iol.unh.edu dpdklab at iol.unh.edu
Mon Aug 24 14:51:10 CEST 2020


Test-Label: iol-testing
Test-Status: SUCCESS
http://dpdk.org/patch/75879

_Testing PASS_

Submitter: Wei Hu (Xavier) <huwei013 at chinasoftinc.com>
Date: Monday, August 24 2020 11:01:30 
DPDK git baseline: Repo:dpdk
  Branch: master
  CommitID:cd6f1d7a5fde76c4f1e771de9f7aafdf59d691e4

75877-75879 --> testing pass

Test environment and result as below:

+---------------------+--------------------+--------------+------------------+----------------+-------------------+
|     Environment     | dpdk_meson_compile | dpdk_compile | dpdk_compile_ovs | dpdk_unit_test | dpdk_compile_spdk |
+=====================+====================+==============+==================+================+===================+
| Windows Server 2019 | PASS               | SKIPPED      | SKIPPED          | SKIPPED        | SKIPPED           |
+---------------------+--------------------+--------------+------------------+----------------+-------------------+
| FreeBSD 11.2        | PASS               | PASS         | SKIPPED          | SKIPPED        | PASS              |
+---------------------+--------------------+--------------+------------------+----------------+-------------------+
| Ubuntu 18.04        | PASS               | PASS         | PASS             | PASS           | PASS              |
+---------------------+--------------------+--------------+------------------+----------------+-------------------+
| CentOS 8            | PASS               | PASS         | PASS             | SKIPPED        | PASS              |
+---------------------+--------------------+--------------+------------------+----------------+-------------------+
| Fedora 31           | PASS               | PASS         | PASS             | SKIPPED        | PASS              |
+---------------------+--------------------+--------------+------------------+----------------+-------------------+
| openSUSE Leap 15    | PASS               | PASS         | PASS             | SKIPPED        | PASS              |
+---------------------+--------------------+--------------+------------------+----------------+-------------------+
| Arch Linux          | PASS               | PASS         | PASS             | SKIPPED        | SKIPPED           |
+---------------------+--------------------+--------------+------------------+----------------+-------------------+

Windows Server 2019
	Kernel: 10.0
	Compiler: clang 9.0

FreeBSD 11.2
	Kernel: 11.2
	Compiler: gcc 8.3

Ubuntu 18.04
	Kernel: 4.15.0-generic
	Compiler: gcc 7.4

CentOS 8
	Kernel: 4.18.0.el8_0
	Compiler: gcc 8.3.1

Fedora 31
	Kernel: 5.3.16
	Compiler: gcc 9.2.1

openSUSE Leap 15
	Kernel: 4.12.14
	Compiler: gcc 7.4.1

Arch Linux
	Kernel: latest
	Compiler: gcc latest

To view detailed results, visit:
https://lab.dpdk.org/results/dashboard/patchsets/12683/

UNH-IOL DPDK Community Lab

To manage your email subscriptions, visit: 
https://lab.dpdk.org/results/dashboard/preferences/subscriptions/


More information about the test-report mailing list