[dpdk-test-report] |SUCCESS| pw76097-76113 [PATCH] [v2, 17/17] net: add checks for max SIMD bitwidth
dpdklab at iol.unh.edu
dpdklab at iol.unh.edu
Thu Aug 27 19:17:34 CEST 2020
Test-Label: iol-testing
Test-Status: SUCCESS
http://dpdk.org/patch/76113
_Testing PASS_
Submitter: Ciara Power <ciara.power at intel.com>
Date: Thursday, August 27 2020 16:13:04
DPDK git baseline: Repo:dpdk
Branch: master
CommitID:cd6f1d7a5fde76c4f1e771de9f7aafdf59d691e4
76097-76113 --> testing pass
Test environment and result as below:
+---------------------+--------------------+--------------+-------------------+----------------+------------------+
| Environment | dpdk_meson_compile | dpdk_compile | dpdk_compile_spdk | dpdk_unit_test | dpdk_compile_ovs |
+=====================+====================+==============+===================+================+==================+
| Windows Server 2019 | PASS | SKIPPED | SKIPPED | SKIPPED | SKIPPED |
+---------------------+--------------------+--------------+-------------------+----------------+------------------+
| FreeBSD 11.2 | PASS | PASS | PASS | SKIPPED | SKIPPED |
+---------------------+--------------------+--------------+-------------------+----------------+------------------+
| Ubuntu 18.04 | PASS | PASS | PASS | PASS | PASS |
+---------------------+--------------------+--------------+-------------------+----------------+------------------+
| CentOS 8 | PASS | PASS | PASS | SKIPPED | PASS |
+---------------------+--------------------+--------------+-------------------+----------------+------------------+
| Fedora 31 | PASS | PASS | PASS | SKIPPED | PASS |
+---------------------+--------------------+--------------+-------------------+----------------+------------------+
| openSUSE Leap 15 | PASS | PASS | PASS | SKIPPED | PASS |
+---------------------+--------------------+--------------+-------------------+----------------+------------------+
| Arch Linux | PASS | PASS | SKIPPED | SKIPPED | PASS |
+---------------------+--------------------+--------------+-------------------+----------------+------------------+
Windows Server 2019
Kernel: 10.0
Compiler: clang 9.0
FreeBSD 11.2
Kernel: 11.2
Compiler: gcc 8.3
Ubuntu 18.04
Kernel: 4.15.0-generic
Compiler: gcc 7.4
CentOS 8
Kernel: 4.18.0.el8_0
Compiler: gcc 8.3.1
Fedora 31
Kernel: 5.3.16
Compiler: gcc 9.2.1
openSUSE Leap 15
Kernel: 4.12.14
Compiler: gcc 7.4.1
Arch Linux
Kernel: latest
Compiler: gcc latest
To view detailed results, visit:
https://lab.dpdk.org/results/dashboard/patchsets/12737/
UNH-IOL DPDK Community Lab
To manage your email subscriptions, visit:
https://lab.dpdk.org/results/dashboard/preferences/subscriptions/
More information about the test-report
mailing list