[dpdk-test-report] |SUCCESS| pw84758-84766 [PATCH] [v3, 9/9] net/ionic: minor logging fixups

dpdklab at iol.unh.edu dpdklab at iol.unh.edu
Fri Dec 4 22:37:40 CET 2020


Test-Label: iol-testing
Test-Status: SUCCESS
http://dpdk.org/patch/84766

_Testing PASS_

Submitter: Andrew Boyer <aboyer at pensando.io>
Date: Friday, December 04 2020 20:16:46 
DPDK git baseline: Repo:dpdk
  Branch: master
  CommitID:d3fa7b89f0b893f051cb4cef1cbc961cb59f5721

84758-84766 --> testing pass

Test environment and result as below:

+---------------------+--------------------+----------------+-------------------+
|     Environment     | dpdk_meson_compile | dpdk_unit_test | dpdk_compile_spdk |
+=====================+====================+================+===================+
| Windows Server 2019 | PASS               | SKIPPED        | SKIPPED           |
+---------------------+--------------------+----------------+-------------------+
| FreeBSD 11.2        | PASS               | SKIPPED        | SKIPPED           |
+---------------------+--------------------+----------------+-------------------+
| CentOS 8            | PASS               | SKIPPED        | SKIPPED           |
+---------------------+--------------------+----------------+-------------------+
| Fedora 31           | PASS               | SKIPPED        | SKIPPED           |
+---------------------+--------------------+----------------+-------------------+
| openSUSE Leap 15    | PASS               | SKIPPED        | SKIPPED           |
+---------------------+--------------------+----------------+-------------------+
| Arch Linux          | PASS               | SKIPPED        | SKIPPED           |
+---------------------+--------------------+----------------+-------------------+
| Ubuntu 18.04        | PASS               | PASS           | PASS              |
+---------------------+--------------------+----------------+-------------------+

Windows Server 2019
	Kernel: 10.0
	Compiler: clang 9.0

FreeBSD 11.2
	Kernel: 11.2
	Compiler: gcc 8.3

CentOS 8
	Kernel: 4.18.0.el8_0
	Compiler: gcc 8.3.1

Fedora 31
	Kernel: 5.3.16
	Compiler: gcc 9.2.1

openSUSE Leap 15
	Kernel: 4.12.14
	Compiler: gcc 7.4.1

Arch Linux
	Kernel: latest
	Compiler: gcc latest

Ubuntu 18.04
	Kernel: 4.15.0-generic
	Compiler: gcc 7.5

To view detailed results, visit:
https://lab.dpdk.org/results/dashboard/patchsets/14736/

UNH-IOL DPDK Community Lab

To manage your email subscriptions, visit: 
https://lab.dpdk.org/results/dashboard/preferences/subscriptions/


More information about the test-report mailing list