[dpdk-test-report] |SUCCESS| pw85185 [PATCH] [v1] app/testpmd: fix default RSS hash not accurate
dpdklab at iol.unh.edu
dpdklab at iol.unh.edu
Tue Dec 15 07:50:42 CET 2020
Test-Label: iol-testing
Test-Status: SUCCESS
http://dpdk.org/patch/85185
_Testing PASS_
Submitter: Steve Yang <stevex.yang at intel.com>
Date: Tuesday, December 15 2020 06:12:34
DPDK git baseline: Repo:dpdk
Branch: master
CommitID:443267090edc42e7c3d0e6e5dbc7580d0b27163c
85185 --> testing pass
Test environment and result as below:
+---------------------+--------------------+----------------+-------------------+
| Environment | dpdk_meson_compile | dpdk_unit_test | dpdk_compile_spdk |
+=====================+====================+================+===================+
| Windows Server 2019 | PASS | SKIPPED | SKIPPED |
+---------------------+--------------------+----------------+-------------------+
| FreeBSD 11.2 | PASS | SKIPPED | SKIPPED |
+---------------------+--------------------+----------------+-------------------+
| CentOS 8 | PASS | SKIPPED | SKIPPED |
+---------------------+--------------------+----------------+-------------------+
| Fedora 31 | PASS | SKIPPED | SKIPPED |
+---------------------+--------------------+----------------+-------------------+
| openSUSE Leap 15 | PASS | SKIPPED | SKIPPED |
+---------------------+--------------------+----------------+-------------------+
| Ubuntu 18.04 | PASS | PASS | PASS |
+---------------------+--------------------+----------------+-------------------+
| Arch Linux | PASS | SKIPPED | SKIPPED |
+---------------------+--------------------+----------------+-------------------+
Windows Server 2019
Kernel: 10.0
Compiler: clang 9.0
FreeBSD 11.2
Kernel: 11.2
Compiler: gcc 8.3
CentOS 8
Kernel: 4.18.0.el8_0
Compiler: gcc 8.3.1
Fedora 31
Kernel: 5.3.16
Compiler: gcc 9.2.1
openSUSE Leap 15
Kernel: 4.12.14
Compiler: gcc 7.4.1
Ubuntu 18.04
Kernel: 4.15.0-generic
Compiler: gcc 7.5
Arch Linux
Kernel: latest
Compiler: gcc latest
To view detailed results, visit:
https://lab.dpdk.org/results/dashboard/patchsets/14821/
UNH-IOL DPDK Community Lab
To manage your email subscriptions, visit:
https://lab.dpdk.org/results/dashboard/preferences/subscriptions/
More information about the test-report
mailing list