[dpdk-test-report] |SUCCESS| pw85260-85266 [PATCH] [v2, 7/7] net/ionic: stop queues when LIF is stopped
dpdklab at iol.unh.edu
dpdklab at iol.unh.edu
Thu Dec 17 01:22:30 CET 2020
Test-Label: iol-testing
Test-Status: SUCCESS
http://dpdk.org/patch/85266
_Testing PASS_
Submitter: Andrew Boyer <aboyer at pensando.io>
Date: Wednesday, December 16 2020 21:12:57
DPDK git baseline: Repo:dpdk-next-net
Branch: master
CommitID:519fad6d9e960bb7f5f75d82b9b354056f9908c4
85260-85266 --> testing pass
Test environment and result as below:
+---------------------+----------------------+--------------------+----------------+----------+-------------------+
| Environment | dpdk_mingw64_compile | dpdk_meson_compile | dpdk_unit_test | abi_test | dpdk_compile_spdk |
+=====================+======================+====================+================+==========+===================+
| Windows Server 2019 | PASS | PASS | SKIPPED | SKIPPED | SKIPPED |
+---------------------+----------------------+--------------------+----------------+----------+-------------------+
| CentOS 8 | SKIPPED | PASS | SKIPPED | SKIPPED | SKIPPED |
+---------------------+----------------------+--------------------+----------------+----------+-------------------+
| FreeBSD 11.2 | SKIPPED | PASS | SKIPPED | SKIPPED | SKIPPED |
+---------------------+----------------------+--------------------+----------------+----------+-------------------+
| Fedora 31 | SKIPPED | PASS | SKIPPED | SKIPPED | SKIPPED |
+---------------------+----------------------+--------------------+----------------+----------+-------------------+
| openSUSE Leap 15 | SKIPPED | PASS | SKIPPED | SKIPPED | SKIPPED |
+---------------------+----------------------+--------------------+----------------+----------+-------------------+
| Arch Linux | SKIPPED | PASS | SKIPPED | SKIPPED | SKIPPED |
+---------------------+----------------------+--------------------+----------------+----------+-------------------+
| Ubuntu 18.04 | SKIPPED | PASS | PASS | PASS | PASS |
+---------------------+----------------------+--------------------+----------------+----------+-------------------+
Windows Server 2019
Kernel: 10.0
Compiler: clang 9.0
CentOS 8
Kernel: 4.18.0.el8_0
Compiler: gcc 8.3.1
FreeBSD 11.2
Kernel: 11.2
Compiler: gcc 8.3
Fedora 31
Kernel: 5.3.16
Compiler: gcc 9.2.1
openSUSE Leap 15
Kernel: 4.12.14
Compiler: gcc 7.4.1
Arch Linux
Kernel: latest
Compiler: gcc latest
Ubuntu 18.04
Kernel: 4.15.0-generic
Compiler: gcc 7.5
To view detailed results, visit:
https://lab.dpdk.org/results/dashboard/patchsets/14845/
UNH-IOL DPDK Community Lab
To manage your email subscriptions, visit:
https://lab.dpdk.org/results/dashboard/preferences/subscriptions/
More information about the test-report
mailing list