[dpdk-test-report] |SUCCESS| pw85582 [PATCH] app/testpmd: add PF and VF targets to flow action type sample

dpdklab at iol.unh.edu dpdklab at iol.unh.edu
Mon Dec 21 08:33:46 CET 2020


Test-Label: iol-testing
Test-Status: SUCCESS
http://dpdk.org/patch/85582

_Testing PASS_

Submitter:  <psatheesh at marvell.com>
Date: Monday, December 21 2020 05:46:36 
DPDK git baseline: Repo:dpdk
  Branch: master
  CommitID:e682b020840a9035beacd24cba4f6baabcfaf5ff

85582 --> testing pass

Test environment and result as below:

+---------------------+----------------------+--------------------+----------------+-------------------+
|     Environment     | dpdk_mingw64_compile | dpdk_meson_compile | dpdk_unit_test | dpdk_compile_spdk |
+=====================+======================+====================+================+===================+
| Windows Server 2019 | PASS                 | PASS               | SKIPPED        | SKIPPED           |
+---------------------+----------------------+--------------------+----------------+-------------------+
| FreeBSD 11.2        | SKIPPED              | PASS               | SKIPPED        | SKIPPED           |
+---------------------+----------------------+--------------------+----------------+-------------------+
| CentOS 8            | SKIPPED              | PASS               | SKIPPED        | SKIPPED           |
+---------------------+----------------------+--------------------+----------------+-------------------+
| Fedora 31           | SKIPPED              | PASS               | SKIPPED        | PASS              |
+---------------------+----------------------+--------------------+----------------+-------------------+
| openSUSE Leap 15    | SKIPPED              | PASS               | SKIPPED        | SKIPPED           |
+---------------------+----------------------+--------------------+----------------+-------------------+
| Arch Linux          | SKIPPED              | PASS               | SKIPPED        | SKIPPED           |
+---------------------+----------------------+--------------------+----------------+-------------------+
| Ubuntu 18.04        | SKIPPED              | PASS               | PASS           | PASS              |
+---------------------+----------------------+--------------------+----------------+-------------------+

Windows Server 2019
	Kernel: 10.0
	Compiler: clang 9.0

FreeBSD 11.2
	Kernel: 11.2
	Compiler: gcc 8.3

CentOS 8
	Kernel: 4.18.0.el8_0
	Compiler: gcc 8.3.1

Fedora 31
	Kernel: 5.3.16
	Compiler: gcc 9.2.1

openSUSE Leap 15
	Kernel: 4.12.14
	Compiler: gcc 7.4.1

Arch Linux
	Kernel: latest
	Compiler: gcc latest

Ubuntu 18.04
	Kernel: 4.15.0-generic
	Compiler: gcc 7.5

To view detailed results, visit:
https://lab.dpdk.org/results/dashboard/patchsets/14899/

UNH-IOL DPDK Community Lab

To manage your email subscriptions, visit: 
https://lab.dpdk.org/results/dashboard/preferences/subscriptions/


More information about the test-report mailing list