[dpdk-test-report] |SUCCESS| [GIT MASTER] 544cc4f82221234a268c6f8a79e21a4a090b9a76
dpdklab at iol.unh.edu
dpdklab at iol.unh.edu
Wed Feb 26 19:40:32 CET 2020
_Testing PASS_
Branch: dpdk-next-eventdev
544cc4f82221234a268c6f8a79e21a4a090b9a76 --> testing pass
Test environment and result as below:
+---------------------+------------------+-------------------+--------------------+--------------+----------------+
| Environment | dpdk_compile_ovs | dpdk_compile_spdk | dpdk_meson_compile | dpdk_compile | dpdk_unit_test |
+=====================+==================+===================+====================+==============+================+
| openSUSE Leap 15 | PASS | PASS | PASS | PASS | SKIPPED |
+---------------------+------------------+-------------------+--------------------+--------------+----------------+
| CentOS 8 | PASS | PASS | PASS | PASS | SKIPPED |
+---------------------+------------------+-------------------+--------------------+--------------+----------------+
| Ubuntu 18.04 | PASS | PASS | PASS | PASS | PASS |
+---------------------+------------------+-------------------+--------------------+--------------+----------------+
| Fedora 31 | PASS | PASS | PASS | PASS | SKIPPED |
+---------------------+------------------+-------------------+--------------------+--------------+----------------+
| Arch Linux | PASS | SKIPPED | PASS | PASS | SKIPPED |
+---------------------+------------------+-------------------+--------------------+--------------+----------------+
| FreeBSD 11.2 | SKIPPED | PASS | PASS | PASS | SKIPPED |
+---------------------+------------------+-------------------+--------------------+--------------+----------------+
| Windows Server 2019 | SKIPPED | SKIPPED | PASS | SKIPPED | SKIPPED |
+---------------------+------------------+-------------------+--------------------+--------------+----------------+
openSUSE Leap 15
Kernel: 4.12.14
Compiler: gcc 7.4.1
CentOS 8
Kernel: 4.18.0.el8_0
Compiler: gcc 8.3.1
Ubuntu 18.04
Kernel: 4.15.0-generic
Compiler: gcc 7.4
Fedora 31
Kernel: 5.3.16
Compiler: gcc 9.2.1
Arch Linux
Kernel: latest
Compiler: gcc latest
FreeBSD 11.2
Kernel: 11.2
Compiler: gcc 8.3
Windows Server 2019
Kernel: 10.0
Compiler: clang 9.0
To view detailed results, visit:
https://lab.dpdk.org/results/dashboard/tarballs/8310/
UNH-IOL DPDK Community Lab
To manage your email subscriptions, visit:
https://lab.dpdk.org/results/dashboard/preferences/subscriptions/
More information about the test-report
mailing list